BEGIN:VCALENDAR
VERSION:2.0
PRODID:-//WhenKickoff//Match Reminder//EN
BEGIN:VEVENT
UID:wk-545879-15@whenkickoff.com
DTSTAMP:20260420T173857Z
DTSTART:20260130T204500Z
DTEND:20260130T224500Z
SUMMARY:Vitória SC vs Moreirense FC
DESCRIPTION:WhenKickoff reminder for Vitória SC vs Moreirense FC
URL:https://whenkickoff.com/en/match/vit-ria-sc-vs-moreirense-fc-545879/
BEGIN:VALARM
TRIGGER:-PT15M
ACTION:DISPLAY
DESCRIPTION:Match starts soon
END:VALARM
END:VEVENT
END:VCALENDAR
