BEGIN:VCALENDAR
VERSION:2.0
PRODID:-//WhenKickoff//Match Reminder//EN
BEGIN:VEVENT
UID:wk-545876-15@whenkickoff.com
DTSTAMP:20260420T185215Z
DTSTART:20260202T204500Z
DTEND:20260202T224500Z
SUMMARY:Casa Pia AC vs FC Porto
DESCRIPTION:WhenKickoff reminder for Casa Pia AC vs FC Porto
URL:https://whenkickoff.com/en/match/casa-pia-ac-vs-fc-porto-545876/
BEGIN:VALARM
TRIGGER:-PT15M
ACTION:DISPLAY
DESCRIPTION:Match starts soon
END:VALARM
END:VEVENT
END:VCALENDAR
