BEGIN:VCALENDAR
VERSION:2.0
PRODID:-//WhenKickoff//Match Reminder//EN
BEGIN:VEVENT
UID:wk-545875-15@whenkickoff.com
DTSTAMP:20260420T185215Z
DTSTART:20260202T184500Z
DTEND:20260202T204500Z
SUMMARY:AVS vs Sporting Clube de Braga
DESCRIPTION:WhenKickoff reminder for AVS vs Sporting Clube de Braga
URL:https://whenkickoff.com/en/match/avs-vs-sporting-clube-de-braga-545875/
BEGIN:VALARM
TRIGGER:-PT15M
ACTION:DISPLAY
DESCRIPTION:Match starts soon
END:VALARM
END:VEVENT
END:VCALENDAR
