BEGIN:VCALENDAR
VERSION:2.0
PRODID:-//WhenKickoff//Match Reminder//EN
BEGIN:VEVENT
UID:wk-545874-15@whenkickoff.com
DTSTAMP:20260420T204838Z
DTSTART:20260201T203000Z
DTEND:20260201T223000Z
SUMMARY:CD Tondela vs Sport Lisboa e Benfica
DESCRIPTION:WhenKickoff reminder for CD Tondela vs Sport Lisboa e Benfica
URL:https://whenkickoff.com/en/match/cd-tondela-vs-sport-lisboa-e-benfica-545874/
BEGIN:VALARM
TRIGGER:-PT15M
ACTION:DISPLAY
DESCRIPTION:Match starts soon
END:VALARM
END:VEVENT
END:VCALENDAR
