BEGIN:VCALENDAR
VERSION:2.0
PRODID:-//WhenKickoff//Match Reminder//EN
BEGIN:VEVENT
UID:wk-545873-15@whenkickoff.com
DTSTAMP:20260420T194436Z
DTSTART:20260201T153000Z
DTEND:20260201T173000Z
SUMMARY:Gil Vicente FC vs FC Famalicão
DESCRIPTION:WhenKickoff reminder for Gil Vicente FC vs FC Famalicão
URL:https://whenkickoff.com/en/match/gil-vicente-fc-vs-fc-famalic-o-545873/
BEGIN:VALARM
TRIGGER:-PT15M
ACTION:DISPLAY
DESCRIPTION:Match starts soon
END:VALARM
END:VEVENT
END:VCALENDAR
