BEGIN:VCALENDAR
VERSION:2.0
PRODID:-//WhenKickoff//Match Reminder//EN
BEGIN:VEVENT
UID:wk-545872-15@whenkickoff.com
DTSTAMP:20260420T204839Z
DTSTART:20260131T180000Z
DTEND:20260131T200000Z
SUMMARY:Rio Ave FC vs FC Arouca
DESCRIPTION:WhenKickoff reminder for Rio Ave FC vs FC Arouca
URL:https://whenkickoff.com/en/match/rio-ave-fc-vs-fc-arouca-545872/
BEGIN:VALARM
TRIGGER:-PT15M
ACTION:DISPLAY
DESCRIPTION:Match starts soon
END:VALARM
END:VEVENT
END:VCALENDAR
