BEGIN:VCALENDAR
VERSION:2.0
PRODID:-//WhenKickoff//Match Reminder//EN
BEGIN:VEVENT
UID:wk-545871-15@whenkickoff.com
DTSTAMP:20260420T204827Z
DTSTART:20260201T180000Z
DTEND:20260201T200000Z
SUMMARY:Sporting Clube de Portugal vs CD Nacional
DESCRIPTION:WhenKickoff reminder for Sporting Clube de Portugal vs CD Nacional
URL:https://whenkickoff.com/en/match/sporting-clube-de-portugal-vs-cd-nacional-545871/
BEGIN:VALARM
TRIGGER:-PT15M
ACTION:DISPLAY
DESCRIPTION:Match starts soon
END:VALARM
END:VEVENT
END:VCALENDAR
