BEGIN:VCALENDAR
VERSION:2.0
PRODID:-//WhenKickoff//Match Reminder//EN
BEGIN:VEVENT
UID:wk-545869-15@whenkickoff.com
DTSTAMP:20260420T171158Z
DTSTART:20260125T180000Z
DTEND:20260125T200000Z
SUMMARY:FC Famalicão vs CD Tondela
DESCRIPTION:WhenKickoff reminder for FC Famalicão vs CD Tondela
URL:https://whenkickoff.com/en/match/fc-famalic-o-vs-cd-tondela-545869/
BEGIN:VALARM
TRIGGER:-PT15M
ACTION:DISPLAY
DESCRIPTION:Match starts soon
END:VALARM
END:VEVENT
END:VCALENDAR
