BEGIN:VCALENDAR
VERSION:2.0
PRODID:-//WhenKickoff//Match Reminder//EN
BEGIN:VEVENT
UID:wk-545868-15@whenkickoff.com
DTSTAMP:20260420T171156Z
DTSTART:20260124T180000Z
DTEND:20260124T200000Z
SUMMARY:FC Arouca vs Sporting Clube de Portugal
DESCRIPTION:WhenKickoff reminder for FC Arouca vs Sporting Clube de Portugal
URL:https://whenkickoff.com/en/match/fc-arouca-vs-sporting-clube-de-portugal-545868/
BEGIN:VALARM
TRIGGER:-PT15M
ACTION:DISPLAY
DESCRIPTION:Match starts soon
END:VALARM
END:VEVENT
END:VCALENDAR
