BEGIN:VCALENDAR
VERSION:2.0
PRODID:-//WhenKickoff//Match Reminder//EN
BEGIN:VEVENT
UID:wk-545867-15@whenkickoff.com
DTSTAMP:20260420T171157Z
DTSTART:20260124T203000Z
DTEND:20260124T223000Z
SUMMARY:GD Estoril Praia vs Vitória SC
DESCRIPTION:WhenKickoff reminder for GD Estoril Praia vs Vitória SC
URL:https://whenkickoff.com/en/match/gd-estoril-praia-vs-vit-ria-sc-545867/
BEGIN:VALARM
TRIGGER:-PT15M
ACTION:DISPLAY
DESCRIPTION:Match starts soon
END:VALARM
END:VEVENT
END:VCALENDAR
