BEGIN:VCALENDAR
VERSION:2.0
PRODID:-//WhenKickoff//Match Reminder//EN
BEGIN:VEVENT
UID:wk-545865-15@whenkickoff.com
DTSTAMP:20260420T171159Z
DTSTART:20260124T153000Z
DTEND:20260124T173000Z
SUMMARY:Moreirense FC vs CD Santa Clara
DESCRIPTION:WhenKickoff reminder for Moreirense FC vs CD Santa Clara
URL:https://whenkickoff.com/en/match/moreirense-fc-vs-cd-santa-clara-545865/
BEGIN:VALARM
TRIGGER:-PT15M
ACTION:DISPLAY
DESCRIPTION:Match starts soon
END:VALARM
END:VEVENT
END:VCALENDAR
