BEGIN:VCALENDAR
VERSION:2.0
PRODID:-//WhenKickoff//Match Reminder//EN
BEGIN:VEVENT
UID:wk-545864-15@whenkickoff.com
DTSTAMP:20260420T171158Z
DTSTART:20260126T201500Z
DTEND:20260126T221500Z
SUMMARY:FC Porto vs Gil Vicente FC
DESCRIPTION:WhenKickoff reminder for FC Porto vs Gil Vicente FC
URL:https://whenkickoff.com/en/match/fc-porto-vs-gil-vicente-fc-545864/
BEGIN:VALARM
TRIGGER:-PT15M
ACTION:DISPLAY
DESCRIPTION:Match starts soon
END:VALARM
END:VEVENT
END:VCALENDAR
