BEGIN:VCALENDAR
VERSION:2.0
PRODID:-//WhenKickoff//Match Reminder//EN
BEGIN:VEVENT
UID:wk-545863-15@whenkickoff.com
DTSTAMP:20260420T171159Z
DTSTART:20260125T203000Z
DTEND:20260125T223000Z
SUMMARY:Sporting Clube de Braga vs FC Alverca
DESCRIPTION:WhenKickoff reminder for Sporting Clube de Braga vs FC Alverca
URL:https://whenkickoff.com/en/match/sporting-clube-de-braga-vs-fc-alverca-545863/
BEGIN:VALARM
TRIGGER:-PT15M
ACTION:DISPLAY
DESCRIPTION:Match starts soon
END:VALARM
END:VEVENT
END:VCALENDAR
