BEGIN:VCALENDAR
VERSION:2.0
PRODID:-//WhenKickoff//Match Reminder//EN
BEGIN:VEVENT
UID:wk-545862-15@whenkickoff.com
DTSTAMP:20260420T152959Z
DTSTART:20260123T201500Z
DTEND:20260123T221500Z
SUMMARY:Casa Pia AC vs AVS
DESCRIPTION:WhenKickoff reminder for Casa Pia AC vs AVS
URL:https://whenkickoff.com/en/match/casa-pia-ac-vs-avs-545862/
BEGIN:VALARM
TRIGGER:-PT15M
ACTION:DISPLAY
DESCRIPTION:Match starts soon
END:VALARM
END:VEVENT
END:VCALENDAR
