BEGIN:VCALENDAR
VERSION:2.0
PRODID:-//WhenKickoff//Match Reminder//EN
BEGIN:VEVENT
UID:wk-545861-15@whenkickoff.com
DTSTAMP:20260420T102830Z
DTSTART:20260118T203000Z
DTEND:20260118T223000Z
SUMMARY:Vitória SC vs FC Porto
DESCRIPTION:WhenKickoff reminder for Vitória SC vs FC Porto
URL:https://whenkickoff.com/en/match/vit-ria-sc-vs-fc-porto-545861/
BEGIN:VALARM
TRIGGER:-PT15M
ACTION:DISPLAY
DESCRIPTION:Match starts soon
END:VALARM
END:VEVENT
END:VCALENDAR
