BEGIN:VCALENDAR
VERSION:2.0
PRODID:-//WhenKickoff//Match Reminder//EN
BEGIN:VEVENT
UID:wk-545860-15@whenkickoff.com
DTSTAMP:20260420T124424Z
DTSTART:20260118T153000Z
DTEND:20260118T173000Z
SUMMARY:CD Santa Clara vs FC Famalicão
DESCRIPTION:WhenKickoff reminder for CD Santa Clara vs FC Famalicão
URL:https://whenkickoff.com/en/match/cd-santa-clara-vs-fc-famalic-o-545860/
BEGIN:VALARM
TRIGGER:-PT15M
ACTION:DISPLAY
DESCRIPTION:Match starts soon
END:VALARM
END:VEVENT
END:VCALENDAR
