BEGIN:VCALENDAR
VERSION:2.0
PRODID:-//WhenKickoff//Match Reminder//EN
BEGIN:VEVENT
UID:wk-545859-15@whenkickoff.com
DTSTAMP:20260420T102831Z
DTSTART:20260117T153000Z
DTEND:20260117T173000Z
SUMMARY:Gil Vicente FC vs CD Nacional
DESCRIPTION:WhenKickoff reminder for Gil Vicente FC vs CD Nacional
URL:https://whenkickoff.com/en/match/gil-vicente-fc-vs-cd-nacional-545859/
BEGIN:VALARM
TRIGGER:-PT15M
ACTION:DISPLAY
DESCRIPTION:Match starts soon
END:VALARM
END:VEVENT
END:VCALENDAR
