BEGIN:VCALENDAR
VERSION:2.0
PRODID:-//WhenKickoff//Match Reminder//EN
BEGIN:VEVENT
UID:wk-545858-15@whenkickoff.com
DTSTAMP:20260420T102832Z
DTSTART:20260117T180000Z
DTEND:20260117T200000Z
SUMMARY:FC Alverca vs Moreirense FC
DESCRIPTION:WhenKickoff reminder for FC Alverca vs Moreirense FC
URL:https://whenkickoff.com/en/match/fc-alverca-vs-moreirense-fc-545858/
BEGIN:VALARM
TRIGGER:-PT15M
ACTION:DISPLAY
DESCRIPTION:Match starts soon
END:VALARM
END:VEVENT
END:VCALENDAR
