BEGIN:VCALENDAR
VERSION:2.0
PRODID:-//WhenKickoff//Match Reminder//EN
BEGIN:VEVENT
UID:wk-545857-15@whenkickoff.com
DTSTAMP:20260420T102909Z
DTSTART:20260119T201500Z
DTEND:20260119T221500Z
SUMMARY:CF Estrela da Amadora vs GD Estoril Praia
DESCRIPTION:WhenKickoff reminder for CF Estrela da Amadora vs GD Estoril Praia
URL:https://whenkickoff.com/en/match/cf-estrela-da-amadora-vs-gd-estoril-praia-545857/
BEGIN:VALARM
TRIGGER:-PT15M
ACTION:DISPLAY
DESCRIPTION:Match starts soon
END:VALARM
END:VEVENT
END:VCALENDAR
