BEGIN:VCALENDAR
VERSION:2.0
PRODID:-//WhenKickoff//Match Reminder//EN
BEGIN:VEVENT
UID:wk-545856-15@whenkickoff.com
DTSTAMP:20260420T102908Z
DTSTART:20260117T180000Z
DTEND:20260117T200000Z
SUMMARY:AVS vs FC Arouca
DESCRIPTION:WhenKickoff reminder for AVS vs FC Arouca
URL:https://whenkickoff.com/en/match/avs-vs-fc-arouca-545856/
BEGIN:VALARM
TRIGGER:-PT15M
ACTION:DISPLAY
DESCRIPTION:Match starts soon
END:VALARM
END:VEVENT
END:VCALENDAR
