BEGIN:VCALENDAR
VERSION:2.0
PRODID:-//WhenKickoff//Match Reminder//EN
BEGIN:VEVENT
UID:wk-545853-15@whenkickoff.com
DTSTAMP:20260420T083910Z
DTSTART:20260116T201500Z
DTEND:20260116T221500Z
SUMMARY:Sporting Clube de Portugal vs Casa Pia AC
DESCRIPTION:WhenKickoff reminder for Sporting Clube de Portugal vs Casa Pia AC
URL:https://whenkickoff.com/en/match/sporting-clube-de-portugal-vs-casa-pia-ac-545853/
BEGIN:VALARM
TRIGGER:-PT15M
ACTION:DISPLAY
DESCRIPTION:Match starts soon
END:VALARM
END:VEVENT
END:VCALENDAR
