BEGIN:VCALENDAR
VERSION:2.0
PRODID:-//WhenKickoff//Match Reminder//EN
BEGIN:VEVENT
UID:wk-545850-15@whenkickoff.com
DTSTAMP:20260420T234446Z
DTSTART:20260104T153000Z
DTEND:20260104T173000Z
SUMMARY:Rio Ave FC vs Casa Pia AC
DESCRIPTION:WhenKickoff reminder for Rio Ave FC vs Casa Pia AC
URL:https://whenkickoff.com/en/match/rio-ave-fc-vs-casa-pia-ac-545850/
BEGIN:VALARM
TRIGGER:-PT15M
ACTION:DISPLAY
DESCRIPTION:Match starts soon
END:VALARM
END:VEVENT
END:VCALENDAR
