BEGIN:VCALENDAR
VERSION:2.0
PRODID:-//WhenKickoff//Match Reminder//EN
BEGIN:VEVENT
UID:wk-545849-15@whenkickoff.com
DTSTAMP:20260420T194435Z
DTSTART:20260102T204500Z
DTEND:20260102T224500Z
SUMMARY:Vitória SC vs CD Nacional
DESCRIPTION:WhenKickoff reminder for Vitória SC vs CD Nacional
URL:https://whenkickoff.com/en/match/vit-ria-sc-vs-cd-nacional-545849/
BEGIN:VALARM
TRIGGER:-PT15M
ACTION:DISPLAY
DESCRIPTION:Match starts soon
END:VALARM
END:VEVENT
END:VCALENDAR
