BEGIN:VCALENDAR
VERSION:2.0
PRODID:-//WhenKickoff//Match Reminder//EN
BEGIN:VEVENT
UID:wk-545847-15@whenkickoff.com
DTSTAMP:20260420T233314Z
DTSTART:20260104T180000Z
DTEND:20260104T200000Z
SUMMARY:CD Santa Clara vs FC Porto
DESCRIPTION:WhenKickoff reminder for CD Santa Clara vs FC Porto
URL:https://whenkickoff.com/en/match/cd-santa-clara-vs-fc-porto-545847/
BEGIN:VALARM
TRIGGER:-PT15M
ACTION:DISPLAY
DESCRIPTION:Match starts soon
END:VALARM
END:VEVENT
END:VCALENDAR
