BEGIN:VCALENDAR
VERSION:2.0
PRODID:-//WhenKickoff//Match Reminder//EN
BEGIN:VEVENT
UID:wk-545844-15@whenkickoff.com
DTSTAMP:20260420T233027Z
DTSTART:20260103T203000Z
DTEND:20260103T223000Z
SUMMARY:AVS vs Moreirense FC
DESCRIPTION:WhenKickoff reminder for AVS vs Moreirense FC
URL:https://whenkickoff.com/en/match/avs-vs-moreirense-fc-545844/
BEGIN:VALARM
TRIGGER:-PT15M
ACTION:DISPLAY
DESCRIPTION:Match starts soon
END:VALARM
END:VEVENT
END:VCALENDAR
