BEGIN:VCALENDAR
VERSION:2.0
PRODID:-//WhenKickoff//Match Reminder//EN
BEGIN:VEVENT
UID:wk-545843-15@whenkickoff.com
DTSTAMP:20260421T033849Z
DTSTART:20251228T180000Z
DTEND:20251228T200000Z
SUMMARY:Sporting Clube de Braga vs Sport Lisboa e Benfica
DESCRIPTION:WhenKickoff reminder for Sporting Clube de Braga vs Sport Lisboa e Benfica
URL:https://whenkickoff.com/en/match/sporting-clube-de-braga-vs-sport-lisboa-e-benfica-545843/
BEGIN:VALARM
TRIGGER:-PT15M
ACTION:DISPLAY
DESCRIPTION:Match starts soon
END:VALARM
END:VEVENT
END:VCALENDAR
