BEGIN:VCALENDAR
VERSION:2.0
PRODID:-//WhenKickoff//Match Reminder//EN
BEGIN:VEVENT
UID:wk-545842-15@whenkickoff.com
DTSTAMP:20260420T121856Z
DTSTART:20260111T153000Z
DTEND:20260111T173000Z
SUMMARY:CD Nacional vs CD Santa Clara
DESCRIPTION:WhenKickoff reminder for CD Nacional vs CD Santa Clara
URL:https://whenkickoff.com/en/match/cd-nacional-vs-cd-santa-clara-545842/
BEGIN:VALARM
TRIGGER:-PT15M
ACTION:DISPLAY
DESCRIPTION:Match starts soon
END:VALARM
END:VEVENT
END:VCALENDAR
