BEGIN:VCALENDAR
VERSION:2.0
PRODID:-//WhenKickoff//Match Reminder//EN
BEGIN:VEVENT
UID:wk-545841-15@whenkickoff.com
DTSTAMP:20260421T015202Z
DTSTART:20251228T203000Z
DTEND:20251228T223000Z
SUMMARY:Sporting Clube de Portugal vs Rio Ave FC
DESCRIPTION:WhenKickoff reminder for Sporting Clube de Portugal vs Rio Ave FC
URL:https://whenkickoff.com/en/match/sporting-clube-de-portugal-vs-rio-ave-fc-545841/
BEGIN:VALARM
TRIGGER:-PT15M
ACTION:DISPLAY
DESCRIPTION:Match starts soon
END:VALARM
END:VEVENT
END:VCALENDAR
