BEGIN:VCALENDAR
VERSION:2.0
PRODID:-//WhenKickoff//Match Reminder//EN
BEGIN:VEVENT
UID:wk-545840-15@whenkickoff.com
DTSTAMP:20260421T033931Z
DTSTART:20251227T203000Z
DTEND:20251227T223000Z
SUMMARY:GD Estoril Praia vs FC Alverca
DESCRIPTION:WhenKickoff reminder for GD Estoril Praia vs FC Alverca
URL:https://whenkickoff.com/en/match/gd-estoril-praia-vs-fc-alverca-545840/
BEGIN:VALARM
TRIGGER:-PT15M
ACTION:DISPLAY
DESCRIPTION:Match starts soon
END:VALARM
END:VEVENT
END:VCALENDAR
