BEGIN:VCALENDAR
VERSION:2.0
PRODID:-//WhenKickoff//Match Reminder//EN
BEGIN:VEVENT
UID:wk-545839-15@whenkickoff.com
DTSTAMP:20260421T015203Z
DTSTART:20251227T180000Z
DTEND:20251227T200000Z
SUMMARY:FC Famalicão vs CF Estrela da Amadora
DESCRIPTION:WhenKickoff reminder for FC Famalicão vs CF Estrela da Amadora
URL:https://whenkickoff.com/en/match/fc-famalic-o-vs-cf-estrela-da-amadora-545839/
BEGIN:VALARM
TRIGGER:-PT15M
ACTION:DISPLAY
DESCRIPTION:Match starts soon
END:VALARM
END:VEVENT
END:VCALENDAR
