BEGIN:VCALENDAR
VERSION:2.0
PRODID:-//WhenKickoff//Match Reminder//EN
BEGIN:VEVENT
UID:wk-545838-15@whenkickoff.com
DTSTAMP:20260421T001240Z
DTSTART:20251229T201500Z
DTEND:20251229T221500Z
SUMMARY:FC Porto vs AVS
DESCRIPTION:WhenKickoff reminder for FC Porto vs AVS
URL:https://whenkickoff.com/en/match/fc-porto-vs-avs-545838/
BEGIN:VALARM
TRIGGER:-PT15M
ACTION:DISPLAY
DESCRIPTION:Match starts soon
END:VALARM
END:VEVENT
END:VCALENDAR
