BEGIN:VCALENDAR
VERSION:2.0
PRODID:-//WhenKickoff//Match Reminder//EN
BEGIN:VEVENT
UID:wk-545837-15@whenkickoff.com
DTSTAMP:20260420T162224Z
DTSTART:20260111T180000Z
DTEND:20260111T200000Z
SUMMARY:Moreirense FC vs CD Tondela
DESCRIPTION:WhenKickoff reminder for Moreirense FC vs CD Tondela
URL:https://whenkickoff.com/en/match/moreirense-fc-vs-cd-tondela-545837/
BEGIN:VALARM
TRIGGER:-PT15M
ACTION:DISPLAY
DESCRIPTION:Match starts soon
END:VALARM
END:VEVENT
END:VCALENDAR
