BEGIN:VCALENDAR
VERSION:2.0
PRODID:-//WhenKickoff//Match Reminder//EN
BEGIN:VEVENT
UID:wk-545835-15@whenkickoff.com
DTSTAMP:20260421T015201Z
DTSTART:20251228T153000Z
DTEND:20251228T173000Z
SUMMARY:Casa Pia AC vs Vitória SC
DESCRIPTION:WhenKickoff reminder for Casa Pia AC vs Vitória SC
URL:https://whenkickoff.com/en/match/casa-pia-ac-vs-vit-ria-sc-545835/
BEGIN:VALARM
TRIGGER:-PT15M
ACTION:DISPLAY
DESCRIPTION:Match starts soon
END:VALARM
END:VEVENT
END:VCALENDAR
