BEGIN:VCALENDAR
VERSION:2.0
PRODID:-//WhenKickoff//Match Reminder//EN
BEGIN:VEVENT
UID:wk-544554-15@whenkickoff.com
DTSTAMP:20260424T134801Z
DTSTART:20260508T190000Z
DTEND:20260508T210000Z
SUMMARY:Levante UD vs CA Osasuna
DESCRIPTION:WhenKickoff reminder for Levante UD vs CA Osasuna
URL:https://whenkickoff.com/en/match/levante-ud-vs-ca-osasuna-544554/
BEGIN:VALARM
TRIGGER:-PT15M
ACTION:DISPLAY
DESCRIPTION:Match starts soon
END:VALARM
END:VEVENT
END:VCALENDAR
