BEGIN:VCALENDAR
VERSION:2.0
PRODID:-//WhenKickoff//Match Reminder//EN
BEGIN:VEVENT
UID:wk-544550-15@whenkickoff.com
DTSTAMP:20260420T070620Z
DTSTART:20260504T190000Z
DTEND:20260504T210000Z
SUMMARY:Sevilla FC vs Real Sociedad de Fútbol
DESCRIPTION:WhenKickoff reminder for Sevilla FC vs Real Sociedad de Fútbol
URL:https://whenkickoff.com/en/match/sevilla-fc-vs-real-sociedad-de-f-tbol-544550/
BEGIN:VALARM
TRIGGER:-PT15M
ACTION:DISPLAY
DESCRIPTION:Match starts soon
END:VALARM
END:VEVENT
END:VCALENDAR
