BEGIN:VCALENDAR
VERSION:2.0
PRODID:-//WhenKickoff//Match Reminder//EN
BEGIN:VEVENT
UID:wk-544548-15@whenkickoff.com
DTSTAMP:20260420T001746Z
DTSTART:20260502T190000Z
DTEND:20260502T210000Z
SUMMARY:CA Osasuna vs FC Barcelona
DESCRIPTION:WhenKickoff reminder for CA Osasuna vs FC Barcelona
URL:https://whenkickoff.com/en/match/ca-osasuna-vs-fc-barcelona-544548/
BEGIN:VALARM
TRIGGER:-PT15M
ACTION:DISPLAY
DESCRIPTION:Match starts soon
END:VALARM
END:VEVENT
END:VCALENDAR
