BEGIN:VCALENDAR
VERSION:2.0
PRODID:-//WhenKickoff//Match Reminder//EN
BEGIN:VEVENT
UID:wk-544542-15@whenkickoff.com
DTSTAMP:20260420T030257Z
DTSTART:20260503T163000Z
DTEND:20260503T183000Z
SUMMARY:Real Betis Balompié vs Real Oviedo
DESCRIPTION:WhenKickoff reminder for Real Betis Balompié vs Real Oviedo
URL:https://whenkickoff.com/en/match/real-betis-balompi-vs-real-oviedo-544542/
BEGIN:VALARM
TRIGGER:-PT15M
ACTION:DISPLAY
DESCRIPTION:Match starts soon
END:VALARM
END:VEVENT
END:VCALENDAR
