BEGIN:VCALENDAR
VERSION:2.0
PRODID:-//WhenKickoff//Match Reminder//EN
BEGIN:VEVENT
UID:wk-544541-15@whenkickoff.com
DTSTAMP:20260419T222432Z
DTSTART:20260502T163000Z
DTEND:20260502T183000Z
SUMMARY:Deportivo Alavés vs Athletic Club
DESCRIPTION:WhenKickoff reminder for Deportivo Alavés vs Athletic Club
URL:https://whenkickoff.com/en/match/deportivo-alav-s-vs-athletic-club-544541/
BEGIN:VALARM
TRIGGER:-PT15M
ACTION:DISPLAY
DESCRIPTION:Match starts soon
END:VALARM
END:VEVENT
END:VCALENDAR
