BEGIN:VCALENDAR
VERSION:2.0
PRODID:-//WhenKickoff//Match Reminder//EN
BEGIN:VEVENT
UID:wk-544530-15@whenkickoff.com
DTSTAMP:20260419T231153Z
DTSTART:20260425T163000Z
DTEND:20260425T183000Z
SUMMARY:Valencia CF vs Girona FC
DESCRIPTION:WhenKickoff reminder for Valencia CF vs Girona FC
URL:https://whenkickoff.com/en/match/valencia-cf-vs-girona-fc-544530/
BEGIN:VALARM
TRIGGER:-PT15M
ACTION:DISPLAY
DESCRIPTION:Match starts soon
END:VALARM
END:VEVENT
END:VCALENDAR
