BEGIN:VCALENDAR
VERSION:2.0
PRODID:-//WhenKickoff//Match Reminder//EN
BEGIN:VEVENT
UID:wk-544529-15@whenkickoff.com
DTSTAMP:20260419T234147Z
DTSTART:20260426T141500Z
DTEND:20260426T161500Z
SUMMARY:Real Oviedo vs Elche CF
DESCRIPTION:WhenKickoff reminder for Real Oviedo vs Elche CF
URL:https://whenkickoff.com/en/match/real-oviedo-vs-elche-cf-544529/
BEGIN:VALARM
TRIGGER:-PT15M
ACTION:DISPLAY
DESCRIPTION:Match starts soon
END:VALARM
END:VEVENT
END:VCALENDAR
