BEGIN:VCALENDAR
VERSION:2.0
PRODID:-//WhenKickoff//Match Reminder//EN
BEGIN:VEVENT
UID:wk-544528-15@whenkickoff.com
DTSTAMP:20260419T220209Z
DTSTART:20260426T190000Z
DTEND:20260426T210000Z
SUMMARY:Villarreal CF vs RC Celta de Vigo
DESCRIPTION:WhenKickoff reminder for Villarreal CF vs RC Celta de Vigo
URL:https://whenkickoff.com/en/match/villarreal-cf-vs-rc-celta-de-vigo-544528/
BEGIN:VALARM
TRIGGER:-PT15M
ACTION:DISPLAY
DESCRIPTION:Match starts soon
END:VALARM
END:VEVENT
END:VCALENDAR
