BEGIN:VCALENDAR
VERSION:2.0
PRODID:-//WhenKickoff//Match Reminder//EN
BEGIN:VEVENT
UID:wk-544521-15@whenkickoff.com
DTSTAMP:20260419T192357Z
DTSTART:20260425T120000Z
DTEND:20260425T140000Z
SUMMARY:Deportivo Alavés vs RCD Mallorca
DESCRIPTION:WhenKickoff reminder for Deportivo Alavés vs RCD Mallorca
URL:https://whenkickoff.com/en/match/deportivo-alav-s-vs-rcd-mallorca-544521/
BEGIN:VALARM
TRIGGER:-PT15M
ACTION:DISPLAY
DESCRIPTION:Match starts soon
END:VALARM
END:VEVENT
END:VCALENDAR
