BEGIN:VCALENDAR
VERSION:2.0
PRODID:-//WhenKickoff//Match Reminder//EN
BEGIN:VEVENT
UID:wk-544517-15@whenkickoff.com
DTSTAMP:20260421T084657Z
DTSTART:20260411T190000Z
DTEND:20260411T210000Z
SUMMARY:Sevilla FC vs Club Atlético de Madrid
DESCRIPTION:WhenKickoff reminder for Sevilla FC vs Club Atlético de Madrid
URL:https://whenkickoff.com/en/match/sevilla-fc-vs-club-atl-tico-de-madrid-544517/
BEGIN:VALARM
TRIGGER:-PT15M
ACTION:DISPLAY
DESCRIPTION:Match starts soon
END:VALARM
END:VEVENT
END:VCALENDAR
