BEGIN:VCALENDAR
VERSION:2.0
PRODID:-//WhenKickoff//Match Reminder//EN
BEGIN:VEVENT
UID:wk-544510-15@whenkickoff.com
DTSTAMP:20260420T005705Z
DTSTART:20260404T120000Z
DTEND:20260404T140000Z
SUMMARY:Real Sociedad de Fútbol vs Levante UD
DESCRIPTION:WhenKickoff reminder for Real Sociedad de Fútbol vs Levante UD
URL:https://whenkickoff.com/en/match/real-sociedad-de-f-tbol-vs-levante-ud-544510/
BEGIN:VALARM
TRIGGER:-PT15M
ACTION:DISPLAY
DESCRIPTION:Match starts soon
END:VALARM
END:VEVENT
END:VCALENDAR
