BEGIN:VCALENDAR
VERSION:2.0
PRODID:-//WhenKickoff//Match Reminder//EN
BEGIN:VEVENT
UID:wk-544505-15@whenkickoff.com
DTSTAMP:20260419T230034Z
DTSTART:20260404T141500Z
DTEND:20260404T161500Z
SUMMARY:RCD Mallorca vs Real Madrid CF
DESCRIPTION:WhenKickoff reminder for RCD Mallorca vs Real Madrid CF
URL:https://whenkickoff.com/en/match/rcd-mallorca-vs-real-madrid-cf-544505/
BEGIN:VALARM
TRIGGER:-PT15M
ACTION:DISPLAY
DESCRIPTION:Match starts soon
END:VALARM
END:VEVENT
END:VCALENDAR
