BEGIN:VCALENDAR
VERSION:2.0
PRODID:-//WhenKickoff//Match Reminder//EN
BEGIN:VEVENT
UID:wk-544502-15@whenkickoff.com
DTSTAMP:20260419T135918Z
DTSTART:20260404T190000Z
DTEND:20260404T210000Z
SUMMARY:Club Atlético de Madrid vs FC Barcelona
DESCRIPTION:WhenKickoff reminder for Club Atlético de Madrid vs FC Barcelona
URL:https://whenkickoff.com/en/match/club-atl-tico-de-madrid-vs-fc-barcelona-544502/
BEGIN:VALARM
TRIGGER:-PT15M
ACTION:DISPLAY
DESCRIPTION:Match starts soon
END:VALARM
END:VEVENT
END:VCALENDAR
