BEGIN:VCALENDAR
VERSION:2.0
PRODID:-//WhenKickoff//Match Reminder//EN
BEGIN:VEVENT
UID:wk-544501-15@whenkickoff.com
DTSTAMP:20260420T035215Z
DTSTART:20260405T190000Z
DTEND:20260405T210000Z
SUMMARY:Deportivo Alavés vs CA Osasuna
DESCRIPTION:WhenKickoff reminder for Deportivo Alavés vs CA Osasuna
URL:https://whenkickoff.com/en/match/deportivo-alav-s-vs-ca-osasuna-544501/
BEGIN:VALARM
TRIGGER:-PT15M
ACTION:DISPLAY
DESCRIPTION:Match starts soon
END:VALARM
END:VEVENT
END:VCALENDAR
