BEGIN:VCALENDAR
VERSION:2.0
PRODID:-//WhenKickoff//Match Reminder//EN
BEGIN:VEVENT
UID:wk-544497-15@whenkickoff.com
DTSTAMP:20260419T220207Z
DTSTART:20260322T151500Z
DTEND:20260322T171500Z
SUMMARY:RC Celta de Vigo vs Deportivo Alavés
DESCRIPTION:WhenKickoff reminder for RC Celta de Vigo vs Deportivo Alavés
URL:https://whenkickoff.com/en/match/rc-celta-de-vigo-vs-deportivo-alav-s-544497/
BEGIN:VALARM
TRIGGER:-PT15M
ACTION:DISPLAY
DESCRIPTION:Match starts soon
END:VALARM
END:VEVENT
END:VCALENDAR
