BEGIN:VCALENDAR
VERSION:2.0
PRODID:-//WhenKickoff//Match Reminder//EN
BEGIN:VEVENT
UID:wk-544494-15@whenkickoff.com
DTSTAMP:20260420T000916Z
DTSTART:20260321T151500Z
DTEND:20260321T171500Z
SUMMARY:RCD Espanyol de Barcelona vs Getafe CF
DESCRIPTION:WhenKickoff reminder for RCD Espanyol de Barcelona vs Getafe CF
URL:https://whenkickoff.com/en/match/rcd-espanyol-de-barcelona-vs-getafe-cf-544494/
BEGIN:VALARM
TRIGGER:-PT15M
ACTION:DISPLAY
DESCRIPTION:Match starts soon
END:VALARM
END:VEVENT
END:VCALENDAR
