BEGIN:VCALENDAR
VERSION:2.0
PRODID:-//WhenKickoff//Match Reminder//EN
BEGIN:VEVENT
UID:wk-544492-15@whenkickoff.com
DTSTAMP:20260419T222456Z
DTSTART:20260322T130000Z
DTEND:20260322T150000Z
SUMMARY:FC Barcelona vs Rayo Vallecano de Madrid
DESCRIPTION:WhenKickoff reminder for FC Barcelona vs Rayo Vallecano de Madrid
URL:https://whenkickoff.com/en/match/fc-barcelona-vs-rayo-vallecano-de-madrid-544492/
BEGIN:VALARM
TRIGGER:-PT15M
ACTION:DISPLAY
DESCRIPTION:Match starts soon
END:VALARM
END:VEVENT
END:VCALENDAR
